BEGIN:VCALENDAR
VERSION:2.0
PRODID:-//Familylab Polska - ECPv6.15.7//NONSGML v1.0//EN
CALSCALE:GREGORIAN
METHOD:PUBLISH
X-WR-CALNAME:Familylab Polska
X-ORIGINAL-URL:https://www.family-lab.pl
X-WR-CALDESC:Wydarzenia dla Familylab Polska
REFRESH-INTERVAL;VALUE=DURATION:PT1H
X-Robots-Tag:noindex
X-PUBLISHED-TTL:PT1H
BEGIN:VTIMEZONE
TZID:Europe/Paris
BEGIN:DAYLIGHT
TZOFFSETFROM:+0100
TZOFFSETTO:+0200
TZNAME:CEST
DTSTART:20240331T010000
END:DAYLIGHT
BEGIN:STANDARD
TZOFFSETFROM:+0200
TZOFFSETTO:+0100
TZNAME:CET
DTSTART:20241027T010000
END:STANDARD
BEGIN:DAYLIGHT
TZOFFSETFROM:+0100
TZOFFSETTO:+0200
TZNAME:CEST
DTSTART:20250330T010000
END:DAYLIGHT
BEGIN:STANDARD
TZOFFSETFROM:+0200
TZOFFSETTO:+0100
TZNAME:CET
DTSTART:20251026T010000
END:STANDARD
BEGIN:DAYLIGHT
TZOFFSETFROM:+0100
TZOFFSETTO:+0200
TZNAME:CEST
DTSTART:20260329T010000
END:DAYLIGHT
BEGIN:STANDARD
TZOFFSETFROM:+0200
TZOFFSETTO:+0100
TZNAME:CET
DTSTART:20261025T010000
END:STANDARD
END:VTIMEZONE
BEGIN:VEVENT
DTSTART;TZID=Europe/Paris:20250423T180000
DTEND;TZID=Europe/Paris:20250423T200000
DTSTAMP:20260426T035536
CREATED:20250404T174717Z
LAST-MODIFIED:20250404T174717Z
UID:8240-1745431200-1745438400@www.family-lab.pl
SUMMARY:Rodzice jako para
DESCRIPTION:Kiedy zakochujemy się w drugiej osobie\, wszystko wydaje się łatwe. Z czasem jednak pojawia się coraz więcej różnic zdań\, wyzwań i prania do zrobienia. Jak wtedy dbać o związek? \nJesper Juul powtarzał\, że relacja rodziców\, to pierwsze dziecko w związku. \nZapraszamy na seminarium o tym\, jak o nie dbać. Bo choć nikt z nas nie ma jednej recepty na udany związek\, mamy wpływ na jakość budowanych przez nas relacji. Wymaga to trochę odwagi\, sporo ciekawości\, a także próby zrozumienia własnej przeszłości. \nZapisy i płatność:\n\nkliknij tutaj\n\nProwadząca:\n\nPatrycja Guba-Wawruch
URL:https://www.family-lab.pl/wydarzenia/rodzice-jako-para-04042024/
LOCATION:Fundacja Sto Pociech\, ul. Freta 20/24a\, Warszawa
CATEGORIES:Warszawa
ATTACH;FMTTYPE=image/jpeg:https://www.family-lab.pl/wp-content/uploads/2025/04/Fundacja-Sto-pociech-42-e1743788827790.jpg
ORGANIZER;CN="Fundacja Sto Pociech":MAILTO:recepcja@stopociech.pl
END:VEVENT
BEGIN:VEVENT
DTSTART;TZID=Europe/Paris:20250425T180000
DTEND;TZID=Europe/Paris:20250425T200000
DTSTAMP:20260426T035536
CREATED:20250404T175616Z
LAST-MODIFIED:20250404T175616Z
UID:8245-1745604000-1745611200@www.family-lab.pl
SUMMARY:Nastolatek w rodzinie - kiedy kończy się wychowanie
DESCRIPTION:Czy życie z nastolatkiem musi oznaczać ciągłe konflikty?\nCzy jedyna droga do uzyskania autonomii to bunt?\n\nKiedy kończą trzynaście-czternaście lat\, oczekują od rodziców właściwie tylko jednego: świadomości\, że na tym świecie jest jedna albo dwie osoby\, które naprawdę akceptują je takimi\, jakimi są. \nJesper Juul \nJesper Juul\, kieruje do nas\, trudny do przyjęcia dla przeciętnego rodzica przekaz: kiedy dziecko ma 14 lat\, już za późno na wychowanie. Teraz możemy przyglądać się efektom naszych wysiłków podejmowanych przez ostatnie lata. Nie chodzi jednak o to\, aby pozostać biernym obserwatorem zmagań naszego nastoletniego dziecka ze światem – postulujemy przejście na pozycję sparingpartnera: osoby\, która daje maksymalny opór\, ale jednocześnie dba o to\, aby nie wyrządzić szkody. \nJak zrobić to w praktyce – to właśnie jest tematem seminarium. \nZapisy i płatność:\n\nkliknij tutaj\n\nProwadząca:\n\nKatarzyna Gałązka
URL:https://www.family-lab.pl/wydarzenia/nastolatek-w-rodzinie-kiedy-konczy-sie-wychowanie-2-04042025/
LOCATION:Fundacja Sto Pociech\, ul. Freta 20/24a\, Warszawa
CATEGORIES:Warszawa
ATTACH;FMTTYPE=image/jpeg:https://www.family-lab.pl/wp-content/uploads/2025/04/Fundacja-Sto-pociech-43-e1743789356790.jpg
ORGANIZER;CN="Fundacja Sto Pociech":MAILTO:recepcja@stopociech.pl
END:VEVENT
BEGIN:VEVENT
DTSTART;TZID=Europe/Paris:20250428T100000
DTEND;TZID=Europe/Paris:20250428T120000
DTSTAMP:20260426T035536
CREATED:20250404T180159Z
LAST-MODIFIED:20250404T180159Z
UID:8250-1745834400-1745841600@www.family-lab.pl
SUMMARY:Dorosły jak latarnia morska
DESCRIPTION:Seminarium jest próbą odpowiedzi na pytanie\, w jaki sposób mądrze towarzyszyć dzieciom\, aby być dla nich oparciem\, a jednocześnie działać z poszanowaniem ich godności. Opiekując się dziećmi i wychowując je\, w ogromnej mierze bazujemy na własnych doświadczeniach w tym obszarze. Opierając się na tym\, co nam się podobało\, co nam służyło\, staramy się powielać te działania i zaniechać tych\, które dla nas jako dla dzieci były destrukcyjne. Takie podejście do procesu wychowania\, oparte na powielaniu lub negacji\, daje nam niewielką szansę na stworzenie w naszych rodzinach lub klasach zupełnie nowej\, pożądanej przez nas jakości. \nProwadząc seminarium o mądrym przewodnictwie dorosłych\, zależy nam na tym\, aby skłonić Państwa do refleksji nad tym\, jakie wartości chcielibyście Państwo zaszczepić w dzieciach\, a potem podzielić się wiedzą na temat tego\, co w tej kwestii skutecznie działa oraz jak budować autorytet w czasach\, w których tyle się mówi o kryzysie autorytetów. \nPodobnie jak w przypadku wszystkich seminariów Familylab\, uwaga zwrócona będzie na nas – dorosłych. Spotkanie będzie dobrą okazją do zastanowienia się nad tym\, do jesteśmy potrzebni dzieciom\, co cennego możemy wnieść w ich życie\, a czego lepiej unikać\, żeby im nie zaszkodzić. \nWiększość rodziców\, którzy poddają swoje zachowanie głębszej refleksji\, dochodzi do wniosku\, że pięćdziesiąt procent tego\, co mówią do dzieci\, jest zupełnie zbyteczne albo służy tylko utrzymaniu ich dobrego mniemania o sobie jako rodzicach. Przewodnictwo w rodzinie nie polega na tym\, żeby być lubianym\, tylko żeby mieć realny wpływ na życie dzieci. \nJesper Juul \nZapisy i płatność:\n\nkliknij tutaj\n\nProwadząca:\n\nPatrycja Guba-Wawruch\n\n  \n 
URL:https://www.family-lab.pl/wydarzenia/dorosly-jak-latarnia-morska-04042025/
LOCATION:Fundacja Sto Pociech\, ul. Freta 20/24a\, Warszawa
CATEGORIES:Warszawa
ATTACH;FMTTYPE=image/jpeg:https://www.family-lab.pl/wp-content/uploads/2025/04/Fundacja-Sto-pociech-44-e1743789709893.jpg
ORGANIZER;CN="Fundacja Sto Pociech":MAILTO:recepcja@stopociech.pl
END:VEVENT
END:VCALENDAR