BEGIN:VCALENDAR
VERSION:2.0
PRODID:-//Familylab Polska - ECPv6.15.7//NONSGML v1.0//EN
CALSCALE:GREGORIAN
METHOD:PUBLISH
X-WR-CALNAME:Familylab Polska
X-ORIGINAL-URL:https://www.family-lab.pl
X-WR-CALDESC:Wydarzenia dla Familylab Polska
REFRESH-INTERVAL;VALUE=DURATION:PT1H
X-Robots-Tag:noindex
X-PUBLISHED-TTL:PT1H
BEGIN:VTIMEZONE
TZID:Europe/Paris
BEGIN:DAYLIGHT
TZOFFSETFROM:+0100
TZOFFSETTO:+0200
TZNAME:CEST
DTSTART:20220327T010000
END:DAYLIGHT
BEGIN:STANDARD
TZOFFSETFROM:+0200
TZOFFSETTO:+0100
TZNAME:CET
DTSTART:20221030T010000
END:STANDARD
BEGIN:DAYLIGHT
TZOFFSETFROM:+0100
TZOFFSETTO:+0200
TZNAME:CEST
DTSTART:20230326T010000
END:DAYLIGHT
BEGIN:STANDARD
TZOFFSETFROM:+0200
TZOFFSETTO:+0100
TZNAME:CET
DTSTART:20231029T010000
END:STANDARD
BEGIN:DAYLIGHT
TZOFFSETFROM:+0100
TZOFFSETTO:+0200
TZNAME:CEST
DTSTART:20240331T010000
END:DAYLIGHT
BEGIN:STANDARD
TZOFFSETFROM:+0200
TZOFFSETTO:+0100
TZNAME:CET
DTSTART:20241027T010000
END:STANDARD
BEGIN:DAYLIGHT
TZOFFSETFROM:+0100
TZOFFSETTO:+0200
TZNAME:CEST
DTSTART:20250330T010000
END:DAYLIGHT
BEGIN:STANDARD
TZOFFSETFROM:+0200
TZOFFSETTO:+0100
TZNAME:CET
DTSTART:20251026T010000
END:STANDARD
BEGIN:DAYLIGHT
TZOFFSETFROM:+0100
TZOFFSETTO:+0200
TZNAME:CEST
DTSTART:20260329T010000
END:DAYLIGHT
BEGIN:STANDARD
TZOFFSETFROM:+0200
TZOFFSETTO:+0100
TZNAME:CET
DTSTART:20261025T010000
END:STANDARD
END:VTIMEZONE
BEGIN:VEVENT
DTSTART;TZID=Europe/Paris:20250921T100000
DTEND;TZID=Europe/Paris:20250921T120000
DTSTAMP:20260422T121510
CREATED:20250915T162151Z
LAST-MODIFIED:20250915T162151Z
UID:8297-1758448800-1758456000@www.family-lab.pl
SUMMARY:Nastolatki - kiedy kończy się wychowanie
DESCRIPTION:Czy życie z nastolatkiem\, musi oznaczać ciągłe konflikty?\nCzy jedyna droga do uzyskania autonomii\, to bunt?\nCzy powinno mnie niepokoić\, że moje nastoletnie dziecko się nie buntuje?\nJak zrozumieć kogoś\, kto teraz tak bardzo różni się ode mnie – inaczej się ubiera\, długo śpi\, komunikuje się elektronicznie\, słucha zupełnie niezrozumiałej dla mnie muzyki i odzywa się półsłówkami?\nJak być mądrym rodzicem nastolatka?\nJak rozmawiać o szkole?\nNa co pozwalać? Jak wyrażać swoje zdanie?\nJak zaoferować mu swoje wsparcie\, żeby mógł z niego skorzystać?\n\nIm więcej tego rodzaju pytań postawią sobie rodzice dorastającego dziecka\, tym większa szansa\, że przez nastoletni wiek swoich dzieci przejdą razem konstruktywnie. Jeśli i Ty zadajesz sobie te pytania każdego dnia\, zapraszam na spotkanie\, podczas którego przyjrzymy się wyzwaniom tego okresu w życiu rodziny i przypomnimy sobie\, co w tym czasie jest najważniejsze. \n„Kiedy kończą trzynaście-czternaście lat\, oczekują od rodziców właściwie tylko jednego: świadomości\, że na tym świecie jest jedna albo dwie osoby\, które naprawdę akceptują je takimi\, jakimi są.” \nJesper Juul \n\nKoszt:\n\n90 zł za osobę lub 160 zł za parę rodziców/opiekunów (wymagana przedpłata)\n\nZapisy:\n\ndobremiejsce.pracownia@gmail.com\n\nProwadząca:\nTamara Kasprzyk
URL:https://www.family-lab.pl/wydarzenia/nastolatki-kiedy-konczy-sie-wychowanie-15092025/
LOCATION:Poznań\, Stydio Jogi Mandala\, Murawa 37B\, Murawa 37B\, Poznań
CATEGORIES:Poznań
ORGANIZER;CN="Tamara Kasprzyk Dobre Miejsce":MAILTO:dobremiejsce.pracownia@gmail.com
END:VEVENT
BEGIN:VEVENT
DTSTART;TZID=Europe/Paris:20250321T180000
DTEND;TZID=Europe/Paris:20250321T200000
DTSTAMP:20260422T121510
CREATED:20250225T082645Z
LAST-MODIFIED:20250225T082645Z
UID:8227-1742580000-1742587200@www.family-lab.pl
SUMMARY:Sztuka mówienia NIE z czystym sumieniem
DESCRIPTION:Jak empatycznie stawiać dzieciom granice?\nJak mówić NIE\, kiedy myślimy „NIE” i czuć się z tym w porządku?\nKiedy dzieci potrzebują jednolitych granic\, a gdzie możemy zostawić im swobodę?\n\nJako trenerka Family Lab\, fundacji promującej filozofię  duńskiego pedagoga Jespera Juula\, chcę zaprosić Was na kolejne seminarium inspirujące w gronie rodziców\, opiekunów i specjalistów pracujących z dziećmi i nastolatkami. \n\nKonieczność wcześniejszego zapisu na  kontakt@czulosc.org\nlub SMS 502 873 990.\nInwestycja: 90 zł/osoby\n\nProwadząca\nMarta Bożemska
URL:https://www.family-lab.pl/wydarzenia/sztuka-mowienia-nie-z-czystym-sumieniem-25022025/
LOCATION:Czułość Gabinet Terapeutyczny Marta Bożemska\, Mickiewicza 33/35\, Poznań\, Poland
CATEGORIES:Poznań
ATTACH;FMTTYPE=image/jpeg:https://www.family-lab.pl/wp-content/uploads/2025/02/Czulosc-Gabinet-Terapeutyczny-Marta-Bozemska-e1740471865136.jpg
ORGANIZER;CN="Czu%C5%82o%C5%9B%C4%87 Gabinet Terapeutyczny Marta Bo%C5%BCemska":MAILTO:kontakt@czulosc.org
END:VEVENT
BEGIN:VEVENT
DTSTART;TZID=Europe/Paris:20231202T093000
DTEND;TZID=Europe/Paris:20231202T113000
DTSTAMP:20260422T121510
CREATED:20231030T191318Z
LAST-MODIFIED:20231030T201618Z
UID:7886-1701509400-1701516600@www.family-lab.pl
SUMMARY:Nastolatki - kiedy kończy się wychowanie
DESCRIPTION:Czy życie z nastolatkiem musi oznaczać ciągłe konflikty?\nCzy jedyna droga do uzyskania autonomii to bunt?\nCzy powinno mnie niepokoić\, że moje nastoletnie dziecko się nie buntuje?\nJak zrozumieć kogoś\, kto teraz tak bardzo różni się ode mnie – inaczej się ubiera\, długo śpi\, komunikuje się elektronicznie\, słucha zupełnie niezrozumiałej dla mnie muzyki i odzywa się półsłówkami?\nJak być mądrym rodzicem nastolatka?\nJak rozmawiać o szkole?\nNa co pozwalać?\nJak wyrażać swoje zdanie?\nJak zaoferować mu swoje wsparcie\, żeby mógł z niego skorzystać?\n\nIm więcej tego rodzaju pytań postawią sobie rodzice dorastającego dziecka\, tym większa szansa\, że przez nastoletni wiek swoich dzieci przejdą razem konstruktywnie. Zapraszamy na spotkanie\, na którym padnie także wiele odpowiedzi. \nKiedy kończą trzynaście-czternaście lat\, oczekują od rodziców właściwie tylko jednego: świadomości\, że na tym świecie jest jedna albo dwie osoby\, które naprawdę akceptują je takimi\, jakimi są. – Jesper Juul \nMiejsce wydarzenia:\n\nPoznań\, Moc Relacji\, Polna 31/1\n\nZapisy\n\nMailowo: dobremiejsce.pracownia@gmail.com\nWymagane są wcześniejsze zapisy.\nKoszt udziału jednej osoby to 70 zł.\n\nProwadząca:\n\nTamara Kasprzyk
URL:https://www.family-lab.pl/wydarzenia/nastolatki-kiedy-konczy-sie-wychowanie-20231030/
CATEGORIES:Poznań
ATTACH;FMTTYPE=image/jpeg:https://www.family-lab.pl/wp-content/uploads/2023/10/Dobre-Miejsce-Tamara-Kasprzyk-e1698693013830.jpg
ORGANIZER;CN="Tamara Kasprzyk Dobre Miejsce":MAILTO:dobremiejsce.pracownia@gmail.com
END:VEVENT
BEGIN:VEVENT
DTSTART;TZID=Europe/Paris:20231125T093000
DTEND;TZID=Europe/Paris:20231125T113000
DTSTAMP:20260422T121510
CREATED:20231030T192303Z
LAST-MODIFIED:20231120T161738Z
UID:7891-1700904600-1700911800@www.family-lab.pl
SUMMARY:Jestem OK taka/taki\, jaka/jaki jestem - jak rozwija się poczucie własnej wartości dzieci
DESCRIPTION:Zapraszam na spotkanie dotyczące obszaru kluczowego dla rozwoju dziecka – poczucia własnej wartości. \nZdrowe poczucie własnej wartości daje nam możliwość rozwijania swojego potencjału\, adekwatnego wykorzystania własnych zasobów\, budowania satysfakcjonujących relacji z ludźmi\, funkcjonowania zgodnie ze swoimi wartościami i otwartości na opinie innych. \nPodczas spotkania dowiecie się\, czy można wspierać w dzieciach ich poczucie własnej wartości\, pomimo że nasze własne zostało mocno nadszarpnięte w toku socjalizacji\, jak nie przekroczyć granicy pomiędzy konstruktywnym towarzyszeniem dziecku a „rozpieszczaniem” go\, jak odróżnić poczucie własnej wartości od pewności siebie\, a także co w codziennym życiu może pomóc nam w dbaniu o siebie w omawianym obszarze. \nZagadnienie poczucia własnej wartości spostrzegam jako kluczowe w rozwoju dziecka\, gdyż jest ono w pewnym sensie szczepionką chroniącą dziecko przed niepożądanym i destrukcyjnym wpływem środowiska – zarówno ludzi (presji rówieśniczej\, nękania\, krzywdzących dorosłych) jak i zdarzeń (rozwód rodziców\, śmierć bliskiej osoby\, choroba\, emigracja itd.). Zdrowe poczucie własnej wartości pozwala w trudnych sytuacjach znaleźć oparcie w sobie lub adekwatnie szukać go na zewnątrz\, a na co dzień działać ze świadomością własnych potrzeb ale też z uwzględnieniem potrzeb innych. \nKiedy:\n\nsobota\, 25.11.2023. r. godz. 9:30 – 11:30\n\nGdzie:\n\nMoc Relacji\, ul. Polna 31/1\, Poznań\n\nKoszt:\n\n70 zł osoba – przedpłata na konto\n\nZapisy:\n\ndobremiejsce.pracownia@gmail.com\nLiczba miejsc jest ograniczona\, bardzo proszę zapisywać się drogą mailową.\n\nProwadząca:\n\nTamara Kasprzyk\n\nJestem psycholożką\, trenerką Familylab i mamą dwóch chłopców w wieku szkolnym. Bardzo cenię sobie formułę spotkań inspirujących\, które pozwalają zastanowić się nad własnymi przekonaniami i samodzielnie wybrać swoją rodzicielską drogę.
URL:https://www.family-lab.pl/wydarzenia/jestem-ok-taka-taki-jaka-jaki-jestem-jak-rozwija-sie-poczucie-wlasnej-wartosci-dzieci-20231030/
CATEGORIES:Poznań
ATTACH;FMTTYPE=image/jpeg:https://www.family-lab.pl/wp-content/uploads/2023/10/Dobre-Miejsce-Tamara-Kasprzyk-22-e1700497049844.jpg
ORGANIZER;CN="Tamara Kasprzyk Dobre Miejsce":MAILTO:dobremiejsce.pracownia@gmail.com
END:VEVENT
END:VCALENDAR