BEGIN:VCALENDAR
VERSION:2.0
PRODID:-//Familylab Polska - ECPv6.15.7//NONSGML v1.0//EN
CALSCALE:GREGORIAN
METHOD:PUBLISH
X-ORIGINAL-URL:https://www.family-lab.pl
X-WR-CALDESC:Wydarzenia dla Familylab Polska
REFRESH-INTERVAL;VALUE=DURATION:PT1H
X-Robots-Tag:noindex
X-PUBLISHED-TTL:PT1H
BEGIN:VTIMEZONE
TZID:Europe/Paris
BEGIN:DAYLIGHT
TZOFFSETFROM:+0100
TZOFFSETTO:+0200
TZNAME:CEST
DTSTART:20240331T010000
END:DAYLIGHT
BEGIN:STANDARD
TZOFFSETFROM:+0200
TZOFFSETTO:+0100
TZNAME:CET
DTSTART:20241027T010000
END:STANDARD
BEGIN:DAYLIGHT
TZOFFSETFROM:+0100
TZOFFSETTO:+0200
TZNAME:CEST
DTSTART:20250330T010000
END:DAYLIGHT
BEGIN:STANDARD
TZOFFSETFROM:+0200
TZOFFSETTO:+0100
TZNAME:CET
DTSTART:20251026T010000
END:STANDARD
BEGIN:DAYLIGHT
TZOFFSETFROM:+0100
TZOFFSETTO:+0200
TZNAME:CEST
DTSTART:20260329T010000
END:DAYLIGHT
BEGIN:STANDARD
TZOFFSETFROM:+0200
TZOFFSETTO:+0100
TZNAME:CET
DTSTART:20261025T010000
END:STANDARD
END:VTIMEZONE
BEGIN:VEVENT
DTSTART;TZID=Europe/Paris:20250921T100000
DTEND;TZID=Europe/Paris:20250921T120000
DTSTAMP:20260420T224518
CREATED:20250915T162151Z
LAST-MODIFIED:20250915T162151Z
UID:8297-1758448800-1758456000@www.family-lab.pl
SUMMARY:Nastolatki - kiedy kończy się wychowanie
DESCRIPTION:Czy życie z nastolatkiem\, musi oznaczać ciągłe konflikty?\nCzy jedyna droga do uzyskania autonomii\, to bunt?\nCzy powinno mnie niepokoić\, że moje nastoletnie dziecko się nie buntuje?\nJak zrozumieć kogoś\, kto teraz tak bardzo różni się ode mnie – inaczej się ubiera\, długo śpi\, komunikuje się elektronicznie\, słucha zupełnie niezrozumiałej dla mnie muzyki i odzywa się półsłówkami?\nJak być mądrym rodzicem nastolatka?\nJak rozmawiać o szkole?\nNa co pozwalać? Jak wyrażać swoje zdanie?\nJak zaoferować mu swoje wsparcie\, żeby mógł z niego skorzystać?\n\nIm więcej tego rodzaju pytań postawią sobie rodzice dorastającego dziecka\, tym większa szansa\, że przez nastoletni wiek swoich dzieci przejdą razem konstruktywnie. Jeśli i Ty zadajesz sobie te pytania każdego dnia\, zapraszam na spotkanie\, podczas którego przyjrzymy się wyzwaniom tego okresu w życiu rodziny i przypomnimy sobie\, co w tym czasie jest najważniejsze. \n„Kiedy kończą trzynaście-czternaście lat\, oczekują od rodziców właściwie tylko jednego: świadomości\, że na tym świecie jest jedna albo dwie osoby\, które naprawdę akceptują je takimi\, jakimi są.” \nJesper Juul \n\nKoszt:\n\n90 zł za osobę lub 160 zł za parę rodziców/opiekunów (wymagana przedpłata)\n\nZapisy:\n\ndobremiejsce.pracownia@gmail.com\n\nProwadząca:\nTamara Kasprzyk
URL:https://www.family-lab.pl/wydarzenia/nastolatki-kiedy-konczy-sie-wychowanie-15092025/
LOCATION:Poznań\, Stydio Jogi Mandala\, Murawa 37B\, Murawa 37B\, Poznań
CATEGORIES:Poznań
ORGANIZER;CN="Tamara Kasprzyk Dobre Miejsce":MAILTO:dobremiejsce.pracownia@gmail.com
END:VEVENT
END:VCALENDAR