BEGIN:VCALENDAR
VERSION:2.0
PRODID:-//Familylab Polska - ECPv6.15.7//NONSGML v1.0//EN
CALSCALE:GREGORIAN
METHOD:PUBLISH
X-ORIGINAL-URL:https://www.family-lab.pl
X-WR-CALDESC:Wydarzenia dla Familylab Polska
REFRESH-INTERVAL;VALUE=DURATION:PT1H
X-Robots-Tag:noindex
X-PUBLISHED-TTL:PT1H
BEGIN:VTIMEZONE
TZID:Europe/Paris
BEGIN:DAYLIGHT
TZOFFSETFROM:+0100
TZOFFSETTO:+0200
TZNAME:CEST
DTSTART:20240331T010000
END:DAYLIGHT
BEGIN:STANDARD
TZOFFSETFROM:+0200
TZOFFSETTO:+0100
TZNAME:CET
DTSTART:20241027T010000
END:STANDARD
BEGIN:DAYLIGHT
TZOFFSETFROM:+0100
TZOFFSETTO:+0200
TZNAME:CEST
DTSTART:20250330T010000
END:DAYLIGHT
BEGIN:STANDARD
TZOFFSETFROM:+0200
TZOFFSETTO:+0100
TZNAME:CET
DTSTART:20251026T010000
END:STANDARD
BEGIN:DAYLIGHT
TZOFFSETFROM:+0100
TZOFFSETTO:+0200
TZNAME:CEST
DTSTART:20260329T010000
END:DAYLIGHT
BEGIN:STANDARD
TZOFFSETFROM:+0200
TZOFFSETTO:+0100
TZNAME:CET
DTSTART:20261025T010000
END:STANDARD
END:VTIMEZONE
BEGIN:VEVENT
DTSTART;TZID=Europe/Paris:20250704T100000
DTEND;TZID=Europe/Paris:20250704T120000
DTSTAMP:20260424T082231
CREATED:20250704T070540Z
LAST-MODIFIED:20250704T070540Z
UID:8280-1751623200-1751630400@www.family-lab.pl
SUMMARY:Nastolatek w rodzinie
DESCRIPTION:Jesper Juul kieruje trudny do przyjęcia\, dla przeciętnego rodzica\, przekaz: kiedy dziecko ma 14 lat\, już za późno na wychowanie. Teraz możemy przyglądać się efektom naszych wysiłków\, podejmowanych przez ostatnie lata. Nie chodzi jednak o to\, aby pozostać biernym obserwatorem zmagań naszego nastoletniego dziecka ze światem. Postulujemy przejście na pozycję sparingpartnera: osoby\, która daje maksymalny opór\, ale jednocześnie dba o to\, aby nie wyrządzić szkody. Jak zrobić to w praktyce\, to właśnie jest tematem seminarium. \nLink do zapisów\ntutaj \nProwadząca\nKatarzyna Gałązka
URL:https://www.family-lab.pl/wydarzenia/nastolatek-w-rodzinie/
LOCATION:Fundacja Sto Pociech\, ul. Freta 20/24a\, Warszawa
CATEGORIES:Warszawa
ORGANIZER;CN="Fundacja Sto Pociech":MAILTO:recepcja@stopociech.pl
END:VEVENT
END:VCALENDAR